BEGIN:VCALENDAR
PRODID:-//AT Content Types//AT Event//EN
VERSION:1.0
BEGIN:VEVENT
DTSTART:20200202T080000Z
DTEND:20200211T160000Z
DCREATED:20200207T154018Z
UID:ATEvent-5e79d87b84d0497a933775c168fdd468
SEQUENCE:0
LAST-MODIFIED:20200207T154402Z
SUMMARY:Canonical visit to the Vicariate of Holy Land
LOCATION:Holy Land
PRIORITY:3
TRANSP:0
END:VEVENT
END:VCALENDAR
