BEGIN:VCALENDAR
PRODID:-//AT Content Types//AT Event//EN
VERSION:1.0
BEGIN:VEVENT
DTSTART:20250210T090000Z
DTEND:20250309T110000Z
DCREATED:20250114T140222Z
UID:ATEvent-94de8e0f9d9146168891f747adb4610e
SEQUENCE:0
LAST-MODIFIED:20250114T140541Z
SUMMARY:Canonical visit of the Superior General to the Vicariate of Thailand and Vietnam
LOCATION:Chiang Mai - Ho Chi Minh City
PRIORITY:3
TRANSP:0
END:VEVENT
END:VCALENDAR
