BEGIN:VCALENDAR
PRODID:-//AT Content Types//AT Event//EN
VERSION:2.0
METHOD:PUBLISH
BEGIN:VEVENT
DTSTAMP:20260421T205533Z
CREATED:20200827T142836Z
UID:ATEvent-e06cada63d5f412bbfc087b50c468ee0
LAST-MODIFIED:20200827T143213Z
SUMMARY:Canonical visit of the Superior General to the Vicariate of Ivory Coast
DTSTART:20200905T070000Z
DTEND:20200926T140000Z
LOCATION:Vicariate of Ivory Coast
CLASS:PUBLIC
END:VEVENT
END:VCALENDAR
