BEGIN:VCALENDAR
PRODID:-//AT Content Types//AT Event//EN
VERSION:1.0
BEGIN:VEVENT
DTSTART:20201017T080000Z
DTEND:20201028T163000Z
DCREATED:20200930T153038Z
UID:ATEvent-546c8597e17a47be8a2f56c2b282703b
SEQUENCE:0
LAST-MODIFIED:20201021T065346Z
SUMMARY:Interruption of the canonical visit of the Superior General to the Vicariate of Italy
LOCATION:Vicariate of Italy
PRIORITY:3
TRANSP:0
END:VEVENT
END:VCALENDAR
