BEGIN:VCALENDAR
PRODID:-//AT Content Types//AT Event//EN
VERSION:2.0
METHOD:PUBLISH
BEGIN:VEVENT
DTSTAMP:20260426T033841Z
CREATED:20200701T073826Z
UID:ATEvent-5deb6f2edaf04e229bdd62a26bb149cd
LAST-MODIFIED:20200701T074221Z
SUMMARY:Canonical visit of the Superior General to the Vicariate of France and Spain
DTSTART:20200704T100000Z
DTEND:20200727T150000Z
LOCATION:Vicariate of France and Spain
CLASS:PUBLIC
END:VEVENT
END:VCALENDAR
