BEGIN:VCALENDAR
PRODID:-//AT Content Types//AT Event//EN
VERSION:2.0
METHOD:PUBLISH
BEGIN:VEVENT
DTSTAMP:20260420T112856Z
CREATED:20220905T115131Z
UID:ATEvent-89935e93877844848e1b9abc922438ca
LAST-MODIFIED:20220905T115455Z
SUMMARY:Canonical Visit of the Superior General to the Vicariate of India
DTSTART:20220905T140000Z
DTEND:20220921T160000Z
LOCATION:India
CLASS:PUBLIC
END:VEVENT
END:VCALENDAR
